BEGIN:VCALENDAR
VERSION:2.0
PRODID:-//Braustube - ECPv6.15.20//NONSGML v1.0//EN
CALSCALE:GREGORIAN
METHOD:PUBLISH
X-ORIGINAL-URL:https://braustube.li/en/
X-WR-CALDESC:Events for Braustube
REFRESH-INTERVAL;VALUE=DURATION:PT1H
X-Robots-Tag:noindex
X-PUBLISHED-TTL:PT1H
BEGIN:VTIMEZONE
TZID:Europe/Vaduz
BEGIN:DAYLIGHT
TZOFFSETFROM:+0100
TZOFFSETTO:+0200
TZNAME:CEST
DTSTART:20230326T010000
END:DAYLIGHT
BEGIN:STANDARD
TZOFFSETFROM:+0200
TZOFFSETTO:+0100
TZNAME:CET
DTSTART:20231029T010000
END:STANDARD
BEGIN:DAYLIGHT
TZOFFSETFROM:+0100
TZOFFSETTO:+0200
TZNAME:CEST
DTSTART:20240331T010000
END:DAYLIGHT
BEGIN:STANDARD
TZOFFSETFROM:+0200
TZOFFSETTO:+0100
TZNAME:CET
DTSTART:20241027T010000
END:STANDARD
BEGIN:DAYLIGHT
TZOFFSETFROM:+0100
TZOFFSETTO:+0200
TZNAME:CEST
DTSTART:20250330T010000
END:DAYLIGHT
BEGIN:STANDARD
TZOFFSETFROM:+0200
TZOFFSETTO:+0100
TZNAME:CET
DTSTART:20251026T010000
END:STANDARD
END:VTIMEZONE
BEGIN:VEVENT
DTSTART;VALUE=DATE:20240928
DTEND;VALUE=DATE:20240930
DTSTAMP:20260425T173800
CREATED:20240819T192336Z
LAST-MODIFIED:20240905T075753Z
UID:10000028-1727481600-1727654399@braustube.li
SUMMARY:Oktoberfest in the Braustube
DESCRIPTION:Saturday\, 28th September 2024 & Sunday\, 29th September 2024\nWith the « Hattinger Buam“ an Oktoberfest live band\nLive Band: Saturday 18.00 – 24.00h and Sunday 11.30 – 14.30h\nReduced food menu
URL:https://braustube.li/en/veranstaltung/oktoberfest-in-the-braustube/
LOCATION:Braustube Schaan\, Im alten Riet 156\, Schaan\, 9494
ATTACH;FMTTYPE=image/jpeg:https://braustube.li/wp-content/uploads/2024/08/Web-1366-–-1d.jpg
END:VEVENT
BEGIN:VEVENT
DTSTART;VALUE=DATE:20241108
DTEND;VALUE=DATE:20241110
DTSTAMP:20260425T173800
CREATED:20240819T193342Z
LAST-MODIFIED:20240819T193342Z
UID:10000027-1731024000-1731196799@braustube.li
SUMMARY:Bockbeerfest
DESCRIPTION:Friday\, 08th November 2024  Saturday\, 09th November 2024\nWith the « Platzl Oktoberfestkapelle“ from the Armbrustschützenzelt at the Oktoberfest in Munich\nLive Band: Friday 18.00 – 24.00h and Saturday 16.00 – 22.00h\nReduced food menu
URL:https://braustube.li/en/veranstaltung/bockbeerfest/
LOCATION:Braustube Schaan\, Im alten Riet 156\, Schaan\, 9494
ATTACH;FMTTYPE=image/jpeg:https://braustube.li/wp-content/uploads/2024/08/adWeb-1366-–-2.jpg
END:VEVENT
END:VCALENDAR